BEGIN:VCALENDAR
METHOD:PUBLISH
X-WR-TIMEZONE:Europe/Berlin
PRODID:https://clauen.4lima.de/
CALSCALE:GREGORIAN
VERSION:2.0
BEGIN:VTIMEZONE
TZID:Europe/Berlin
BEGIN:DAYLIGHT
TZOFFSETFROM:+0100
TZOFFSETTO:+0200
DTSTART:19810329T020000
RRULE:FREQ=YEARLY;BYMONTH=3;BYDAY=-1SU
TZNAME:CEST
END:DAYLIGHT
BEGIN:STANDARD
TZOFFSETFROM:+0200
TZOFFSETTO:+0100
DTSTART:19961027T030000
RRULE:FREQ=YEARLY;BYMONTH=10;BYDAY=-1SU
TZNAME:CET
END:STANDARD
END:VTIMEZONE
BEGIN:VEVENT
SUMMARY:45. Schießen um den „Wanderpokal der örtlichen Vereine“ Tag 1
DESCRIPTION:45. Schießen um den „Wanderpokal der örtlichen Vereine“ Tag 1
UID:7151fcdab31548af848f3121ed6ebfc7@clauen.4lima.de
CLASS:PUBLIC
DTSTART;TZID=Europe/Berlin:20260624T193000
DTEND;TZID=Europe/Berlin:20260624T235900
DTSTAMP:20260412T233353
LOCATION:Schützenhaus
URL;VALUE=URI:https://clauen.4lima.de/Artikel/Wanderpokal26-1.html
BEGIN:VALARM
TRIGGER:-PT24H
DESCRIPTION:
ACTION:DISPLAY
END:VALARM
END:VEVENT
END:VCALENDAR

