BEGIN:VCALENDAR
METHOD:PUBLISH
X-WR-TIMEZONE:Europe/Berlin
PRODID:https://clauen.4lima.de/
CALSCALE:GREGORIAN
VERSION:2.0
BEGIN:VTIMEZONE
TZID:Europe/Berlin
BEGIN:DAYLIGHT
TZOFFSETFROM:+0100
TZOFFSETTO:+0200
DTSTART:19810329T020000
RRULE:FREQ=YEARLY;BYMONTH=3;BYDAY=-1SU
TZNAME:CEST
END:DAYLIGHT
BEGIN:STANDARD
TZOFFSETFROM:+0200
TZOFFSETTO:+0100
DTSTART:19961027T030000
RRULE:FREQ=YEARLY;BYMONTH=10;BYDAY=-1SU
TZNAME:CET
END:STANDARD
END:VTIMEZONE
BEGIN:VEVENT
SUMMARY:Stadtradeln Team Clauen (bis 28.5.)
DESCRIPTION:Stadtradeln Team Clauen (bis 28.5.)
UID:0471a449bd654f1997277ada836054b2@clauen.4lima.de
CLASS:PUBLIC
DTSTART;TZID=Europe/Berlin:20260508T130000
DTEND;TZID=Europe/Berlin:20260508T235900
DTSTAMP:20260329T161809
LOCATION:Clauen
URL;VALUE=URI:https://clauen.4lima.de/Artikel/Stadtradeln26.html
BEGIN:VALARM
TRIGGER:-PT24H
DESCRIPTION:
ACTION:DISPLAY
END:VALARM
END:VEVENT
END:VCALENDAR

